BEGIN:VCALENDAR
VERSION:2.0
PRODID:-//Alan Santana - ECPv6.15.3//NONSGML v1.0//EN
CALSCALE:GREGORIAN
METHOD:PUBLISH
X-ORIGINAL-URL:https://alansantana.com
X-WR-CALDESC:Events for Alan Santana
REFRESH-INTERVAL;VALUE=DURATION:PT1H
X-Robots-Tag:noindex
X-PUBLISHED-TTL:PT1H
BEGIN:VTIMEZONE
TZID:UTC
BEGIN:STANDARD
TZOFFSETFROM:+0000
TZOFFSETTO:+0000
TZNAME:UTC
DTSTART:20180101T000000
END:STANDARD
END:VTIMEZONE
BEGIN:VEVENT
DTSTART;VALUE=DATE:20190506
DTEND;VALUE=DATE:20190507
DTSTAMP:20260423T181353
CREATED:20180422T002825Z
LAST-MODIFIED:20180713T134955Z
UID:5163-1557100800-1557187199@alansantana.com
SUMMARY:CELEBRITY GOLF TOURNAMENT
DESCRIPTION:MAY 2019\nMONTEBELLO COUNTRY CLUB\nMONTEBELLO\, CA\n\n10 AM START TIME\n4 PLAYERS PER TEAM SHOT GUN START\nENTRY FEE: $150.00\nIncludes meals and awards banquet following the tournament.\n\nSILENT AND LIVE AUCTIONS\n\n\n\nCOME OUT AND PLAY GOLF WITH YOU FAVORITE CELEBRITY OR FORMER PROFESSIONAL BOXER\, FOOTBALL PLAYER\, BASEBALL PLAYER AND MANY OTHERS. STAY TUNED FOR MORE INFORMATION .
URL:https://alansantana.com/event/celebrity-golf-tournament/
LOCATION:Montebello Country Club
CATEGORIES:Special Appearance
END:VEVENT
BEGIN:VEVENT
DTSTART;TZID=UTC:20181020T080000
DTEND;TZID=UTC:20181020T170000
DTSTAMP:20260423T181353
CREATED:20180319T044305Z
LAST-MODIFIED:20180319T044306Z
UID:5111-1540022400-1540054800@alansantana.com
SUMMARY:California Hall of Fame Inductions - Host
DESCRIPTION:October 20th\nHost\nCalifornia Hall of Fame Inductions\nLos Angeles\, CA
URL:https://alansantana.com/event/california-hall-of-fame-inductions-host/
LOCATION:Los Angeles\, CA
CATEGORIES:Special Appearance
END:VEVENT
BEGIN:VEVENT
DTSTART;TZID=UTC:20180715T080000
DTEND;TZID=UTC:20180715T170000
DTSTAMP:20260423T181353
CREATED:20180319T042832Z
LAST-MODIFIED:20180319T042833Z
UID:5104-1531641600-1531674000@alansantana.com
SUMMARY:Key Note Speaker
DESCRIPTION:Evolution Sports Expo\nKey Note Speaker\nAnnouncing Boxing Card
URL:https://alansantana.com/event/key-note-speaker/
LOCATION:Hawaii
CATEGORIES:Special Appearance
END:VEVENT
BEGIN:VEVENT
DTSTART;TZID=UTC:20180519T130000
DTEND;TZID=UTC:20180519T153000
DTSTAMP:20260423T181353
CREATED:20180511T234034Z
LAST-MODIFIED:20180515T043836Z
UID:5170-1526734800-1526743800@alansantana.com
SUMMARY:Book signing\, Meet and Greet
DESCRIPTION:Book signing\, Meet and Greet\nBooks will be available for purchase for $10.00
URL:https://alansantana.com/event/book-signing-meet-and-greet/
LOCATION:CASA JIMENEZ RESTAURANT\, 19171 Magnolia Street\, Huntington Beach\, CA\, United States
CATEGORIES:Special Appearance
END:VEVENT
BEGIN:VEVENT
DTSTART;VALUE=DATE:20180415
DTEND;VALUE=DATE:20180416
DTSTAMP:20260423T181353
CREATED:20180319T041343Z
LAST-MODIFIED:20180319T041343Z
UID:5094-1523750400-1523836799@alansantana.com
SUMMARY:Ring Announcer for USA Boxing Championship and Muay Thai Fights
DESCRIPTION:Santa Clara\, CA\nSanta Clara Convention Center\nEvolution Sports Expo\nKey Note Speaker\nRing Announcer for USA Boxing Championship and Muay Thai Fights
URL:https://alansantana.com/event/ring-announcer-for-usa-boxing-championship-and-muay-thai-fights/
LOCATION:Santa Clara\, CA   Santa Clara Convention Center\, United States
CATEGORIES:Special Appearance
END:VEVENT
END:VCALENDAR